BEGIN:VCALENDAR
VERSION:2.0
PRODID:-//keihard.cc - ECPv6.15.20//NONSGML v1.0//EN
CALSCALE:GREGORIAN
METHOD:PUBLISH
X-WR-CALNAME:keihard.cc
X-ORIGINAL-URL:https://keihard.cc
X-WR-CALDESC:Evenementen voor keihard.cc
REFRESH-INTERVAL;VALUE=DURATION:PT1H
X-Robots-Tag:noindex
X-PUBLISHED-TTL:PT1H
BEGIN:VTIMEZONE
TZID:Europe/Amsterdam
BEGIN:DAYLIGHT
TZOFFSETFROM:+0100
TZOFFSETTO:+0200
TZNAME:CEST
DTSTART:20250330T010000
END:DAYLIGHT
BEGIN:STANDARD
TZOFFSETFROM:+0200
TZOFFSETTO:+0100
TZNAME:CET
DTSTART:20251026T010000
END:STANDARD
BEGIN:DAYLIGHT
TZOFFSETFROM:+0100
TZOFFSETTO:+0200
TZNAME:CEST
DTSTART:20260329T010000
END:DAYLIGHT
BEGIN:STANDARD
TZOFFSETFROM:+0200
TZOFFSETTO:+0100
TZNAME:CET
DTSTART:20261025T010000
END:STANDARD
BEGIN:DAYLIGHT
TZOFFSETFROM:+0100
TZOFFSETTO:+0200
TZNAME:CEST
DTSTART:20270328T010000
END:DAYLIGHT
BEGIN:STANDARD
TZOFFSETFROM:+0200
TZOFFSETTO:+0100
TZNAME:CET
DTSTART:20271031T010000
END:STANDARD
END:VTIMEZONE
BEGIN:VEVENT
DTSTART;VALUE=DATE:20260913
DTEND;VALUE=DATE:20260914
DTSTAMP:20260425T010032
CREATED:20251210T160036Z
LAST-MODIFIED:20251210T162250Z
UID:2868-1789257600-1789343999@keihard.cc
SUMMARY:Keistad Fietsfestival
DESCRIPTION:Op zondag 13 september zijn we zoals altijd present bij het Keistad Fietsfestival\, het grootste fietsfestival van Amersfoort. Ervaring leert dat we met genoeg man zijn om in meerdere groepen te rijden\, met verschillende afstanden en zowel weg- als gravelroutes. \nNa afloop blijven we gezellig hangen op het festivalterrein\, waar ook partners en kinderen van harte welkom zijn.
URL:https://keihard.cc/event/keistad-fietsfestival/
LOCATION:Amersfoortse IJsvereniging\, Rubensstraat 70\, Amersfoort\, Utrecht\, 3817EA\, Netherlands
CATEGORIES:Gravel,Weg
ATTACH;FMTTYPE=image/png:https://keihard.cc/wp-content/uploads/2025/12/keihard-cc-ROAD-gravel-placeholder.png
END:VEVENT
END:VCALENDAR