BEGIN:VCALENDAR
VERSION:2.0
PRODID:-//keihard.cc - ECPv6.15.20//NONSGML v1.0//EN
CALSCALE:GREGORIAN
METHOD:PUBLISH
X-ORIGINAL-URL:https://keihard.cc
X-WR-CALDESC:Evenementen voor keihard.cc
REFRESH-INTERVAL;VALUE=DURATION:PT1H
X-Robots-Tag:noindex
X-PUBLISHED-TTL:PT1H
BEGIN:VTIMEZONE
TZID:Europe/Amsterdam
BEGIN:DAYLIGHT
TZOFFSETFROM:+0100
TZOFFSETTO:+0200
TZNAME:CEST
DTSTART:20240331T010000
END:DAYLIGHT
BEGIN:STANDARD
TZOFFSETFROM:+0200
TZOFFSETTO:+0100
TZNAME:CET
DTSTART:20241027T010000
END:STANDARD
BEGIN:DAYLIGHT
TZOFFSETFROM:+0100
TZOFFSETTO:+0200
TZNAME:CEST
DTSTART:20250330T010000
END:DAYLIGHT
BEGIN:STANDARD
TZOFFSETFROM:+0200
TZOFFSETTO:+0100
TZNAME:CET
DTSTART:20251026T010000
END:STANDARD
BEGIN:DAYLIGHT
TZOFFSETFROM:+0100
TZOFFSETTO:+0200
TZNAME:CEST
DTSTART:20260329T010000
END:DAYLIGHT
BEGIN:STANDARD
TZOFFSETFROM:+0200
TZOFFSETTO:+0100
TZNAME:CET
DTSTART:20261025T010000
END:STANDARD
END:VTIMEZONE
BEGIN:VEVENT
DTSTART;VALUE=DATE:20251228
DTEND;VALUE=DATE:20251229
DTSTAMP:20260425T054508
CREATED:20251215T115500Z
LAST-MODIFIED:20251215T115500Z
UID:2893-1766880000-1766966399@keihard.cc
SUMMARY:Kerstklassieker 2025 / Gravel
DESCRIPTION:Voor wie de 200 km nét wat veel van het goede vindt (of liever zo min mogelijk asfalt rijdt)\, is er dit jaar een alternatief: een gravelroute van ongeveer 110 kilometer. \nOnder leiding van Chris en Ron rijden we een mooie lus over de betere stroken richting de Veluwe. Het blijft een stevige afstand\, met koude omstandigheden en hier en daar wat modder\, maar vooral een fijne rit om het jaar mee af te sluiten. \nEen andere vorm\, dezelfde Kerstklassieker. \nBijzijn is meemaken. \nRon\, Chris\, Dale
URL:https://keihard.cc/event/kerstklassieker-2025-gravel/
LOCATION:Utrecht
CATEGORIES:Gravel
ATTACH;FMTTYPE=image/png:https://keihard.cc/wp-content/uploads/2025/12/keihard-cc-gravel-placeholder.png
END:VEVENT
BEGIN:VEVENT
DTSTART;TZID=Europe/Amsterdam:20251228T090000
DTEND;TZID=Europe/Amsterdam:20251228T180000
DTSTAMP:20260425T054508
CREATED:20251215T115351Z
LAST-MODIFIED:20251217T150540Z
UID:2890-1766912400-1766944800@keihard.cc
SUMMARY:Kerstklassieker 2025
DESCRIPTION:De zondag na kerst. Terwijl half Nederland nog in een gourmet-dip zit\, trekken wij de fietsbroek aan voor de Keihard Kerstklassieker. \nNa het rondje Flevoland van vorig jaar weten we ongeveer wat ons te wachten staat: kou\, wind\, lege benen en een goed verhaal. \nDit jaar mikken we op ruim 200 kilometer. Lang\, koud en afzien. Perfect slotstuk van het jaar. \nBijzijn is meemaken 🥶. \nMerlijn\, Kirsten\, Dale
URL:https://keihard.cc/event/kerstklassieker-2025/
LOCATION:Utrecht
CATEGORIES:Weg
ATTACH;FMTTYPE=image/png:https://keihard.cc/wp-content/uploads/2025/12/keihard-cc-ROAD-placeholder.png
END:VEVENT
END:VCALENDAR