BEGIN:VCALENDAR
VERSION:2.0
PRODID:-//keihard.cc - ECPv6.15.20//NONSGML v1.0//EN
CALSCALE:GREGORIAN
METHOD:PUBLISH
X-WR-CALNAME:keihard.cc
X-ORIGINAL-URL:https://keihard.cc
X-WR-CALDESC:Evenementen voor keihard.cc
REFRESH-INTERVAL;VALUE=DURATION:PT1H
X-Robots-Tag:noindex
X-PUBLISHED-TTL:PT1H
BEGIN:VTIMEZONE
TZID:Europe/Amsterdam
BEGIN:DAYLIGHT
TZOFFSETFROM:+0100
TZOFFSETTO:+0200
TZNAME:CEST
DTSTART:20250330T010000
END:DAYLIGHT
BEGIN:STANDARD
TZOFFSETFROM:+0200
TZOFFSETTO:+0100
TZNAME:CET
DTSTART:20251026T010000
END:STANDARD
BEGIN:DAYLIGHT
TZOFFSETFROM:+0100
TZOFFSETTO:+0200
TZNAME:CEST
DTSTART:20260329T010000
END:DAYLIGHT
BEGIN:STANDARD
TZOFFSETFROM:+0200
TZOFFSETTO:+0100
TZNAME:CET
DTSTART:20261025T010000
END:STANDARD
BEGIN:DAYLIGHT
TZOFFSETFROM:+0100
TZOFFSETTO:+0200
TZNAME:CEST
DTSTART:20270328T010000
END:DAYLIGHT
BEGIN:STANDARD
TZOFFSETFROM:+0200
TZOFFSETTO:+0100
TZNAME:CET
DTSTART:20271031T010000
END:STANDARD
END:VTIMEZONE
BEGIN:VEVENT
DTSTART;TZID=Europe/Amsterdam:20260503T090000
DTEND;TZID=Europe/Amsterdam:20260503T140000
DTSTAMP:20260425T003634
CREATED:20260422T105447Z
LAST-MODIFIED:20260422T105447Z
UID:3104-1777798800-1777816800@keihard.cc
SUMMARY:DTC Rijn- en Lingetocht
DESCRIPTION:Op zondag 3 mei rijden we de Rijn- en Lingetocht van DTC Driebergen. We verzamelen zoals altijd op het Borneoplein en zetten vanaf daar koers richting het DTC-clubhuis\, waar we aansluiten bij de toertocht. \nInschrijven kan via https://www.fietssport.nl/toertochten/59339/rijn-en-lingetocht (of gewoon bij DTC) \nDe totale afstand — inclusief heen en terug naar Amersfoort — komt uit op ongeveer 140 kilometer. Gemiddelde snelheid 30-31km/u (kruissnelheid daar dus iets boven). Bij veel animo kunnen we de groep ook opsplitsen natuurlijk 🫶🏽. \nVragen? Sluit je aan bij onze Whatsapp community.
URL:https://keihard.cc/event/dtc-rijn-en-lingetocht/
LOCATION:Borneoplein\, Borneoplein\, Amersfoort\, Utrecht\, 3817KH\, Netherlands
CATEGORIES:Weg
ATTACH;FMTTYPE=image/png:https://keihard.cc/wp-content/uploads/2025/12/keihard-cc-ROAD-placeholder.png
END:VEVENT
BEGIN:VEVENT
DTSTART;TZID=Europe/Amsterdam:20260514T090000
DTEND;TZID=Europe/Amsterdam:20260514T140000
DTSTAMP:20260425T003634
CREATED:20260422T105250Z
LAST-MODIFIED:20260422T105348Z
UID:3100-1778749200-1778767200@keihard.cc
SUMMARY:De VOEK Hemelvaartrit
DESCRIPTION:Op donderdag 14 mei (Hemelvaart) rijden we de Hemelvaartrit van De VOEK Nijkerk. We verzamelen bij Amerena en zetten vanaf daar koers richting het Nijkerk\, waar we aansluiten bij de toertocht. \nInschrijven kan via https://www.fietssport.nl/toertochten/58227/hemelvaartrit-2026 \nDe totale afstand — inclusief heen en terug naar Amersfoort — komt uit op ongeveer 130 kilometer. Gemiddelde snelheid 30-31km/u (kruissnelheid daar dus iets boven). Bij veel animo kunnen we de groep ook opsplitsen natuurlijk 🫶🏽. \nVragen? Sluit je aan bij onze Whatsapp community.
URL:https://keihard.cc/event/de-voek-hemelvaartrit/
LOCATION:Amerena\, De Velduil 2\, Amersfoort\, Utrecht\, Netherlands
CATEGORIES:Weg
ATTACH;FMTTYPE=image/png:https://keihard.cc/wp-content/uploads/2025/12/keihard-cc-ROAD-placeholder.png
END:VEVENT
BEGIN:VEVENT
DTSTART;TZID=Europe/Amsterdam:20260523T090000
DTEND;TZID=Europe/Amsterdam:20260523T130000
DTSTAMP:20260425T003634
CREATED:20260331T100529Z
LAST-MODIFIED:20260331T100648Z
UID:3095-1779526800-1779541200@keihard.cc
SUMMARY:Keihard.CC x Trek Social Ride
DESCRIPTION:
URL:https://keihard.cc/event/keihard-cc-x-trek-social-ride/
LOCATION:Trek Store Amersfoort\, Eemplein 100\, Amersfoort\, Utrecht\, 3812EA\, Netherlands
CATEGORIES:Weg
ATTACH;FMTTYPE=image/png:https://keihard.cc/wp-content/uploads/2025/12/keihard-cc-ROAD-placeholder.png
END:VEVENT
END:VCALENDAR