BEGIN:VCALENDAR
VERSION:2.0
PRODID:-//keihard.cc - ECPv6.15.20//NONSGML v1.0//EN
CALSCALE:GREGORIAN
METHOD:PUBLISH
X-WR-CALNAME:keihard.cc
X-ORIGINAL-URL:https://keihard.cc
X-WR-CALDESC:Evenementen voor keihard.cc
REFRESH-INTERVAL;VALUE=DURATION:PT1H
X-Robots-Tag:noindex
X-PUBLISHED-TTL:PT1H
BEGIN:VTIMEZONE
TZID:Europe/Amsterdam
BEGIN:DAYLIGHT
TZOFFSETFROM:+0100
TZOFFSETTO:+0200
TZNAME:CEST
DTSTART:20250330T010000
END:DAYLIGHT
BEGIN:STANDARD
TZOFFSETFROM:+0200
TZOFFSETTO:+0100
TZNAME:CET
DTSTART:20251026T010000
END:STANDARD
BEGIN:DAYLIGHT
TZOFFSETFROM:+0100
TZOFFSETTO:+0200
TZNAME:CEST
DTSTART:20260329T010000
END:DAYLIGHT
BEGIN:STANDARD
TZOFFSETFROM:+0200
TZOFFSETTO:+0100
TZNAME:CET
DTSTART:20261025T010000
END:STANDARD
BEGIN:DAYLIGHT
TZOFFSETFROM:+0100
TZOFFSETTO:+0200
TZNAME:CEST
DTSTART:20270328T010000
END:DAYLIGHT
BEGIN:STANDARD
TZOFFSETFROM:+0200
TZOFFSETTO:+0100
TZNAME:CET
DTSTART:20271031T010000
END:STANDARD
END:VTIMEZONE
BEGIN:VEVENT
DTSTART;VALUE=DATE:20260221
DTEND;VALUE=DATE:20260222
DTSTAMP:20260425T041924
CREATED:20251210T154538Z
LAST-MODIFIED:20251210T165107Z
UID:2844-1771632000-1771718399@keihard.cc
SUMMARY:Gooische Strade Bianche
DESCRIPTION:Tempo Soest organiseert op 21 februari voor de veertiende keer de Gooische Strade Bianche\, een van de populairste gravelritten in onze regio. Veel gravel\, veel heide en bos. Met Keihard gaan we voor de 90 km. Inclusief heen en terug fietsen vanuit Amersfoort komt dat uit op ongeveer 110 km. \nWe willen hier graag met een mooie Keihard-groep aan de start staan. Tickets kopen kan vanaf 12 januari via Fietssport.nl. Deze tocht zit meestal snel vol\, dus zorg dat je er op tijd bij bent. \nWe verzamelen op het Eemplein en rijden gezamenlijk naar de start. We blijven als groep bij elkaar rijden; bij genoeg animo splitsen we op in meerdere groepen. \nHandig om te weten:\n– Geen daginschrijving\n– GPX ontvang je een paar dagen vooraf\n– Je inschrijfgeld is inclusief muntje\, pannenkoek en verzorgingspost(en) \nZet ’m vast in je agenda en zorg dat je op tijd een kaartje koopt.
URL:https://keihard.cc/event/gooische-strade-bianche/
LOCATION:Trek Store Amersfoort\, Eemplein 100\, Amersfoort\, Utrecht\, 3812EA\, Netherlands
CATEGORIES:Gravel
ATTACH;FMTTYPE=image/png:https://keihard.cc/wp-content/uploads/2025/12/keihard-cc-gravel-placeholder.png
END:VEVENT
END:VCALENDAR