BEGIN:VCALENDAR
VERSION:2.0
PRODID:-//keihard.cc - ECPv6.15.20//NONSGML v1.0//EN
CALSCALE:GREGORIAN
METHOD:PUBLISH
X-ORIGINAL-URL:https://keihard.cc
X-WR-CALDESC:Evenementen voor keihard.cc
REFRESH-INTERVAL;VALUE=DURATION:PT1H
X-Robots-Tag:noindex
X-PUBLISHED-TTL:PT1H
BEGIN:VTIMEZONE
TZID:Europe/Amsterdam
BEGIN:DAYLIGHT
TZOFFSETFROM:+0100
TZOFFSETTO:+0200
TZNAME:CEST
DTSTART:20250330T010000
END:DAYLIGHT
BEGIN:STANDARD
TZOFFSETFROM:+0200
TZOFFSETTO:+0100
TZNAME:CET
DTSTART:20251026T010000
END:STANDARD
BEGIN:DAYLIGHT
TZOFFSETFROM:+0100
TZOFFSETTO:+0200
TZNAME:CEST
DTSTART:20260329T010000
END:DAYLIGHT
BEGIN:STANDARD
TZOFFSETFROM:+0200
TZOFFSETTO:+0100
TZNAME:CET
DTSTART:20261025T010000
END:STANDARD
BEGIN:DAYLIGHT
TZOFFSETFROM:+0100
TZOFFSETTO:+0200
TZNAME:CEST
DTSTART:20270328T010000
END:DAYLIGHT
BEGIN:STANDARD
TZOFFSETFROM:+0200
TZOFFSETTO:+0100
TZNAME:CET
DTSTART:20271031T010000
END:STANDARD
END:VTIMEZONE
BEGIN:VEVENT
DTSTART;TZID=Europe/Amsterdam:20260103T133000
DTEND;TZID=Europe/Amsterdam:20260103T190000
DTSTAMP:20260425T124842
CREATED:20251215T115648Z
LAST-MODIFIED:20260102T085023Z
UID:2896-1767447000-1767466800@keihard.cc
SUMMARY:Keihard.CC x Trek Store Amersfoort Nieuwjaarsrit
DESCRIPTION:KNALLEND 2026 IN\nHet nieuwe jaar. De Strava-kilometers staan weer op 0\,0. Dat moet veranderen! \nOp zaterdag 3 januari trappen we (Keihard.CC aka De Leukste Fietsclub van Amersfoort en de Trek Store) daarom 2026 af met een mooie rit. Gravel of MTB\, met na afloop een gezellige borrel. Dit wil je niet missen! \nPlanning \n13.30: verzamelen bij de Trek Store\n14.00: start van de rit🚴‍♂️ \nWe rijden gezamenlijk richting Den Treek (Leusden) en splitsen daar op in twee groepen; \nMTB-groep\nRoute: Den Treek blauw\, met een extra lus rood\nAfstand: ± 48 km\nEventueel in te korten\, afhankelijk van het niveau in de groep. \nGravelgroep\nRoute: nader te bepalen\nAfstand: ± 60 km \n± 16.45: terug bij de Trek Store \nVanaf 17.00: de winkeldeuren gaan dicht\, de muziek gaat aan en de statafels komen tevoorschijn. \nEten en drinken worden verzorgd: broodjes hamburger\, broodjes kroket\, snacks en oliebollen. \n19.00: einde \nMeer lezen over veilig en fijn rijden in een groep?\nhttps://www.ntfu.nl/kenniscentrum/veilig-fietsen/fietsen-in-een-groep/wielrennen \nMeedoen? Leuk! Houd er rekening mee dat deelname op eigen risico is en dat je bij deelname akkoord gaat met onze waiver & veiligheidsinstructie. Deze lees je hier: https://keihard.cc/waiver-veiligheidsinstructie/ \nVoor de MTB rit is een vignet voor Den Treek verplicht. Zorg er voor dat je die hebt!
URL:https://keihard.cc/event/keihard-x-trek-store-amersfoort-nieuwjaarsrit/
LOCATION:Trek Store Amersfoort\, Eemplein 100\, Amersfoort\, Utrecht\, 3812EA\, Netherlands
CATEGORIES:Gravel,MTB
ATTACH;FMTTYPE=image/png:https://keihard.cc/wp-content/uploads/2025/12/keihard-cc-ROAD-placeholder.png
END:VEVENT
END:VCALENDAR