BEGIN:VCALENDAR
VERSION:2.0
PRODID:-//keihard.cc - ECPv6.15.20//NONSGML v1.0//EN
CALSCALE:GREGORIAN
METHOD:PUBLISH
X-WR-CALNAME:keihard.cc
X-ORIGINAL-URL:https://keihard.cc
X-WR-CALDESC:Evenementen voor keihard.cc
REFRESH-INTERVAL;VALUE=DURATION:PT1H
X-Robots-Tag:noindex
X-PUBLISHED-TTL:PT1H
BEGIN:VTIMEZONE
TZID:Europe/Amsterdam
BEGIN:DAYLIGHT
TZOFFSETFROM:+0100
TZOFFSETTO:+0200
TZNAME:CEST
DTSTART:20250330T010000
END:DAYLIGHT
BEGIN:STANDARD
TZOFFSETFROM:+0200
TZOFFSETTO:+0100
TZNAME:CET
DTSTART:20251026T010000
END:STANDARD
BEGIN:DAYLIGHT
TZOFFSETFROM:+0100
TZOFFSETTO:+0200
TZNAME:CEST
DTSTART:20260329T010000
END:DAYLIGHT
BEGIN:STANDARD
TZOFFSETFROM:+0200
TZOFFSETTO:+0100
TZNAME:CET
DTSTART:20261025T010000
END:STANDARD
BEGIN:DAYLIGHT
TZOFFSETFROM:+0100
TZOFFSETTO:+0200
TZNAME:CEST
DTSTART:20270328T010000
END:DAYLIGHT
BEGIN:STANDARD
TZOFFSETFROM:+0200
TZOFFSETTO:+0100
TZNAME:CET
DTSTART:20271031T010000
END:STANDARD
END:VTIMEZONE
BEGIN:VEVENT
DTSTART;TZID=Europe/Amsterdam:20260401T193000
DTEND;TZID=Europe/Amsterdam:20260401T213000
DTSTAMP:20260425T003958
CREATED:20260304T070849Z
LAST-MODIFIED:20260304T071009Z
UID:2995-1775071800-1775079000@keihard.cc
SUMMARY:Keihard.CC Social Ride #126
DESCRIPTION:Nu de dagen langer worden en het kwik langzaam stijgt\, begint het weer te kriebelen. Woensdagavond dus\, social ride op de racefiets. \nWe rijden om 19:30 weg vanaf de parkeerplaats bij het Parkhuis. Afstand is ongeveer 45 km. De eerste paar weken zijn lampjes aan te bevelen. \nRoute (Komoot): https://www.komoot.com/nl-nl/tour/2406493600Zorg dat je de route op je fietscomputer hebt staan. \nKom je voor het eerst? Je bent van harte welkom. We vragen niets van je\, maar een beetje ervaring op de racefiets is wel belangrijk. Helm en klikpedalen zijn verplicht\, net als deugdelijk materiaal. \nAfhankelijk van de opkomst splitsen we op in groepen op snelheid. Ervaring leert dat dit vaak zo is. In de eerste groep wordt in de regel goed gas gegeven\, daar kun je dus worden gelost. De overige groepen rijden een mooi steady tempo met een no-drop policy. \nMeer vragen? Sluit je aan bij onze WhatsApp community\, dan helpen we je graag verder. Het kan ook handig zijn om onze waiver en veiligheidsinstructie even door te nemen: https://keihard.cc/waiver-veiligheidsinstructie/ \nNog even opfrissen hoe je veilig en fijn in een groep rijdt: https://www.ntfu.nl/kenniscentrum/veilig-fietsen/fietsen-in-een-groep/wielrennen \nVragen? Meld je aan bij onze WhatsApp Community!
URL:https://keihard.cc/event/keihard-cc-social-ride-126/
LOCATION:Parkhuis\, Heiligenbergerweg 151\, Amersfoort\, Netherlands
CATEGORIES:Weg
ATTACH;FMTTYPE=image/png:https://keihard.cc/wp-content/uploads/2025/12/keihard-cc-ROAD-placeholder.png
END:VEVENT
END:VCALENDAR