BEGIN:VCALENDAR
VERSION:2.0
PRODID:-//keihard.cc - ECPv6.15.20//NONSGML v1.0//EN
CALSCALE:GREGORIAN
METHOD:PUBLISH
X-ORIGINAL-URL:https://keihard.cc
X-WR-CALDESC:Evenementen voor keihard.cc
REFRESH-INTERVAL;VALUE=DURATION:PT1H
X-Robots-Tag:noindex
X-PUBLISHED-TTL:PT1H
BEGIN:VTIMEZONE
TZID:Europe/Amsterdam
BEGIN:DAYLIGHT
TZOFFSETFROM:+0100
TZOFFSETTO:+0200
TZNAME:CEST
DTSTART:20250330T010000
END:DAYLIGHT
BEGIN:STANDARD
TZOFFSETFROM:+0200
TZOFFSETTO:+0100
TZNAME:CET
DTSTART:20251026T010000
END:STANDARD
BEGIN:DAYLIGHT
TZOFFSETFROM:+0100
TZOFFSETTO:+0200
TZNAME:CEST
DTSTART:20260329T010000
END:DAYLIGHT
BEGIN:STANDARD
TZOFFSETFROM:+0200
TZOFFSETTO:+0100
TZNAME:CET
DTSTART:20261025T010000
END:STANDARD
BEGIN:DAYLIGHT
TZOFFSETFROM:+0100
TZOFFSETTO:+0200
TZNAME:CEST
DTSTART:20270328T010000
END:DAYLIGHT
BEGIN:STANDARD
TZOFFSETFROM:+0200
TZOFFSETTO:+0100
TZNAME:CET
DTSTART:20271031T010000
END:STANDARD
END:VTIMEZONE
BEGIN:VEVENT
DTSTART;VALUE=DATE:20260411
DTEND;VALUE=DATE:20260412
DTSTAMP:20260425T004209
CREATED:20251210T155406Z
LAST-MODIFIED:20260309T142726Z
UID:2855-1775865600-1775951999@keihard.cc
SUMMARY:Season Opener
DESCRIPTION:Op zaterdag 11 april trappen we het wegseizoen af. We verwelkomen die dag oude én nieuwe vrienden\, uit Amersfoort en ver daarbuiten. \nWe rijden in meerdere groepen\, met verschillende afstanden en tempo’s\, zodat iedereen kan aansluiten. Daarbij doen we ons best om een route te rijden die de mooiste wegen in onze omgeving aandoet. We sluiten af met een borrel en maaltijd bij Huis Miereveld.
URL:https://keihard.cc/event/keihard-cc-x-social-ride-maluku-season-opener/
LOCATION:Trek Store Amersfoort\, Eemplein 100\, Amersfoort\, Utrecht\, 3812EA\, Netherlands
CATEGORIES:Weg
ATTACH;FMTTYPE=image/png:https://keihard.cc/wp-content/uploads/2025/12/keihard-cc-ROAD-placeholder.png
END:VEVENT
END:VCALENDAR