BEGIN:VCALENDAR
VERSION:2.0
PRODID:-//keihard.cc - ECPv6.15.20//NONSGML v1.0//EN
CALSCALE:GREGORIAN
METHOD:PUBLISH
X-WR-CALNAME:keihard.cc
X-ORIGINAL-URL:https://keihard.cc
X-WR-CALDESC:Evenementen voor keihard.cc
REFRESH-INTERVAL;VALUE=DURATION:PT1H
X-Robots-Tag:noindex
X-PUBLISHED-TTL:PT1H
BEGIN:VTIMEZONE
TZID:Europe/Amsterdam
BEGIN:DAYLIGHT
TZOFFSETFROM:+0100
TZOFFSETTO:+0200
TZNAME:CEST
DTSTART:20250330T010000
END:DAYLIGHT
BEGIN:STANDARD
TZOFFSETFROM:+0200
TZOFFSETTO:+0100
TZNAME:CET
DTSTART:20251026T010000
END:STANDARD
BEGIN:DAYLIGHT
TZOFFSETFROM:+0100
TZOFFSETTO:+0200
TZNAME:CEST
DTSTART:20260329T010000
END:DAYLIGHT
BEGIN:STANDARD
TZOFFSETFROM:+0200
TZOFFSETTO:+0100
TZNAME:CET
DTSTART:20261025T010000
END:STANDARD
BEGIN:DAYLIGHT
TZOFFSETFROM:+0100
TZOFFSETTO:+0200
TZNAME:CEST
DTSTART:20270328T010000
END:DAYLIGHT
BEGIN:STANDARD
TZOFFSETFROM:+0200
TZOFFSETTO:+0100
TZNAME:CET
DTSTART:20271031T010000
END:STANDARD
END:VTIMEZONE
BEGIN:VEVENT
DTSTART;TZID=Europe/Amsterdam:20260308T090000
DTEND;TZID=Europe/Amsterdam:20260308T140000
DTSTAMP:20260425T011733
CREATED:20251210T154729Z
LAST-MODIFIED:20260204T121124Z
UID:2846-1772960400-1772978400@keihard.cc
SUMMARY:Keihard.CC x WoodYouRecycle Pre-Season Spin
DESCRIPTION:Vind je het leuk om andere fietsers uit Amersfoort en omstreken te ontmoeten en samen het wegseizoen af te trappen? Sluit aan bij onze Pre-Season Spin. \nOp zondag 8 maart rijden we deze rit in samenwerking met WOOD you reCYCLE. We starten en finishen bij Huis Miereveld. Voor de start staat koffie of thee klaar\, en na afloop is er gelegenheid om nog even te blijven hangen met een drankje en wat lekkers. Om de kosten te dekken vragen we een bijdrage van €5\,-. Je koopt een een ticket op de website van WOOD you reCYCLE. \nDe afstand is ongeveer 80 km. We rijden minimaal twee groepen\, afhankelijk van het aantal deelnemers mogelijk meer. Op ieder niveau is begeleiding aanwezig. \nGroepen (indicatie)\nGroep 1 – vlot\nStevig tempo\, strak in het wiel. Je moet comfortabel in een groep kunnen rijden. \nGroep 2 – sociaal\nGecontroleerd tempo met focus op samen rijden. No-drop. \nDe exacte indeling stemmen we ter plekke af. \nProgramma\n\nInloop vanaf 09.00\nStart rit om 09.30\nFinish omstreeks 12:30\n\nWaar\nCirculaire Stadswerkplaats Amersfoort\nMiereveldstraat 72 \nBijdrage\n€5\,-\nAanmelden gaat via een ticket op de website van WOOD you reCYCLE. Let op: tickets worden niet geretourneerd\, maar zijn wel overdraagbaar. \nMeedoen? Leuk!\nDeelname is op eigen risico. Door mee te rijden ga je akkoord met onze waiver en veiligheidsinstructie. \nVragen? Stel ze op WhatsApp! \nImke\, Kirsten & Dale
URL:https://keihard.cc/event/woodyourecycle-x-keihard-cc-pre-season-spin/
LOCATION:Huis Miereveld\, Miereveldstraat 72\, Amersfoort\, Utrecht\, 3817RP\, Netherlands
CATEGORIES:Weg
ATTACH;FMTTYPE=image/png:https://keihard.cc/wp-content/uploads/2025/12/keihard-cc-ROAD-placeholder.png
END:VEVENT
END:VCALENDAR